Workbook
Name _Toc352338917: quantités!$B$26
Name _Toc352338918: quantités!$B$27
Name _Toc352338919: quantités!$B$53
Name _Toc352338920: quantités!$B$64
Name _Toc352338925: quantités!$B$144
Name _Toc399843795: quantités!$B$7
Name _Toc399843798: quantités!$B$71
Name _Toc399843799: quantités!$B$110
Name _Toc399843800: quantités!$A$131

Sheet quantités
A2: BORDEREAU DES PRIX - DETAIL ESTIMATIF
A5: N° | B5: DESIGNATION DES OUVRAGES | C5: U | D5: QTE | E5: PU | F5: PU | G5: PT
E6: En chiffre | F6: En lettres | G6: HT
B7: A-DEMOLITIONS, DECAPAGES ET DEPOSES:
A8: 1 | B8: DEMOLITION DU DALLAGE | C8: M² | D8: 51 | H8: 51 | I8: 1.05 | J8: =H8*I8 -> 53.55
A9: 2 | B9: DEMOLITION DES OUVRAGES ENTERRES | C9: F | D9: 1
A10: 3 | B10: DEMOLITIONS DES OUVRAGES EN MAÇONNERIES | C10: M² | D10: 35
A11: 4 | B11: DEMOLITION DES ESCALIERS | C11: F | D11: 1
A12: 5 | B12: DEMOLITION DES OUVRAGES EN BETON ARME (UNIQUEMENT LES OUVRAGES NOUVEAUX) | C12: M3 | D12: 15
A13: 6 | B13: DEMOLITION OU DEPOSE DES PLANCHERS | C13: M² | D13: 95
A14: 7 | B14: DECAPAGE DE L'ENDUIT INTERIEUR ET EXTERIEUR | C14: M² | D14: 1260
A15: 8 | B15: DÉPOSE DU REVÊTEMENT DU SOL | C15: M² | D15: ='avant métré'!H68 -> 151
A16: 9 | B16: Décapage revêtements mural en carreaux de faience | C16: M² | D16: 157
A17: 10 | B17: Dépose du revêtements mural en bois | C17: M² | D17: 32
A18: 11 | B18: :Depose des renformis ( sol des wc se cuisines) evec appareils sanitaires | C18: M² | D18: 10
A19: 12 | B19: Demolition des paillasses des cuisines evec eviers | C19: M² | D19: 2
A20: 13 | B20: DEPOSE du garde corps metallique dES balconS | C20: E | D20: ='avant métré'!H106 -> 1
A21: 14 | B21: DEPOSE des faux plafonds en platre | C21: M² | D21: ='avant métré'!H108 -> 10
A22: 15 | B22: LA depose et decapage de la forme de pente et l’étanchéité ancienne | C22: M² | D22: 60
A23: 16 | B23: dépose des portes et fenêtres | C23: U | D23: ='avant métré'!H112 -> 27
A24: 17 | B24: Depose de l-installation de la plomberie | C24: E | D24: ='avant métré'!H114 -> 1
A25: 18 | B25: Depose de l-installation de l’electricite | C25: E | D25: ='avant métré'!H116 -> 1
B26: B-TRAVAUX DE REFECTION:
B27: 1/ GROS – ŒUVRES EN FONDATION
A28: 19 | B28: FOUILLES EN TRANCHES OU EN PLEINE MASSE DANS TOUT TERRAIN Y/C ROCHER | C28: M3 | D28: 228
A29: 20 | B29: MISE EN REMBLAIS OU EVACUATIONS A LA DECHARGE PUBLIQUE | C29: M3 | D29: 228
A30: 21 | B30: BETON DE PROPRETE | C30: M3 | D30: 1
A31: 22 | B31: Béton cyclopéen | C31: M3 | D31: 112
A32: 23 | B32: béton pour b.a en fondation | C32: M3 | D32: 15
A33: 24 | B33: aciers pour b.a en fondation | C33: Kg | D33: 1680
A34: 25 | B34: BLOCAGE EN PIERRES SECHES DE 0,20m | C34: M² | D34: 51
A35: 26 | B35: dallage de 15cm en béton arme | C35: M² | D35: 51
B36: 2-ASSAINISSEMENT
A37: 27 | B37: CANALISATION EN BUSES DE PVC SERIE I TYPE ASSAINISSEMENTS Ф 200 | C37: ML | D37: 7
A38: 28 | B38: CANALISATION EN BUSES DE PVC SERIE I TYPE ASSAINISSEMENTS Ф 300 | C38: ML | D38: 5
A39: 29 | B39: REGARDS NON VISITABLES DE 0,40 x 0,40 M | C39: U | D39: 2
A40: 30 | B40: REGARDS VISITABLES DE 0,60 x 0,60 M | C40: U | D40: 1
B41: 3/ GROS – ŒUVRES EN ELEVATION
A42: 31 | B42: Béton pour béton armé en élévation | C42: M3 | D42: 15
A43: 32 | B43: ACIERS TOR POUR b.a en élévation | C43: Kg | D43: 1800
...

Sheet avant métré
A2: BORDEREAU DES PRIX - DETAIL ESTIMATIF
A5: N° | B5: DESIGNATION DES OUVRAGES | C5: U | G5: QTE | H5: QTE
B7: 0) DEMOLITIONS, DECAPAGES ET DEPOSES:
A8: 1 | B8: DEMOLITION DU DALLAGE | C8: M2 | H8: 51
A9: 2 | B9: DEMOLITION DES OUVRAGES ENTERRES | C9: F | H9: 1
A10: 3 | B10: DEMOLITIONS DES OUVRAGES EN MAÇONNERIES | C10: M2 | H10: 35
A11: 4 | B11: DEMOLITION DES ESCALIERS | C11: F | H11: 1
A12: 5 | B12: DEMOLITION DES OUVRAGES EN BETON ARME (UNIQUEMENT LES OUVRAGES NOUVEAUX) | C12: M3 | H12: 15
A13: 6 | B13: DEMOLITION OU DEPOSE DES PLANCHERS | C13: M2 | H13: 95
A14: 7 | B14: DECAPAGE DE L'ENDUIT INTERIEUR ET EXTERIEUR | C14: M2
B15: a- décapage enduit intérieur
D16: 40 | E16: 4 | F16: =D16*E16 -> 160
D17: 12.5 | E17: 4 | F17: =D17*E17 -> 50
D19: 11 | E19: 3.8 | F19: =D19*E19 -> 41.8
D20: 1.35 | E20: 1 | F20: =D20*E20 -> 1.35
D21: 6.9 | E21: 1.7 | F21: =D21*E21 -> 11.73
D22: 3.9 | E22: 2 | F22: =D22*E22 -> 7.8
D23: 9.5 | E23: 2.4 | F23: =D23*E23 -> 22.8
D24: 14 | E24: 3.8 | F24: =D24*E24 -> 53.2
D25: 10 | E25: 2.4 | F25: =D25*E25 -> 24
D26: 16.7 | E26: 2.4 | F26: =D26*E26 -> 40.08
D28: 11 | E28: 3.3 | F28: =D28*E28 -> 36.3
D29: 6 | E29: 1.6 | F29: =D29*E29 -> 9.6
... D41: 17.2 | E41: 3.25 | F41: =D41*E41 -> 55.9
G42: =SUM(F16:F41) -> 833.69
B43: b- décapage enduit extérieur
F44: 35.8
F45: 91
D46: -9 | E46: 3.7 | F46: =E46*D46 -> -33.3
D47: 6.7 | E47: 11.7 | F47: =E47*D47 -> 78.39
D48: 11 | E48: 11.7 | F48: =E48*D48 -> 128.7
D49: 10.3 | E49: 11.7 | F49: =E49*D49 -> 120.51
G50: =SUM(F44:F49) -> 421.1
H51: =G50+G42 -> 1254.79
A52: 8 | B52: DÉPOSE DU REVÊTEMENT DU SOL | C52: M2
F53: 36
F54: 5.3
F55: 4.5
F56: 10.5
F57: 17.5
...

Sheet Feuil3
