Workbook
Name _Toc352338917: quantités!$B$26
Name _Toc352338918: quantités!$B$27
Name _Toc352338919: quantités!$B$53
Name _Toc352338920: quantités!$B$64
Name _Toc352338925: quantités!$B$144
Name _Toc399843795: quantités!$B$7
Name _Toc399843798: quantités!$B$71
Name _Toc399843799: quantités!$B$110
Name _Toc399843800: quantités!$A$131

Sheet quantités
A2: BORDEREAU DES PRIX - DETAIL ESTIMATIF
A5: N° | B5: DESIGNATION DES OUVRAGES | C5: U | D5: QTE | E5: PU | F5: PU | G5: PT
E6: En chiffre | F6: En lettres | G6: HT
B7: A-DEMOLITIONS, DECAPAGES ET DEPOSES:
A8: 1 | B8: DEMOLITION DU DALLAGE | C8: M² | D8: 51 | H8: 51 | I8: 1.05 | J8: =H8*I8 -> 53.55
A9: 2 | B9: DEMOLITION DES OUVRAGES ENTERRES | C9: F | D9: 1
A10: 3 | B10: DEMOLITIONS DES OUVRAGES EN MAÇONNERIES | C10: M² | D10: 35
A11: 4 | B11: DEMOLITION DES ESCALIERS | C11: F | D11: 1
A12: 5 | B12: DEMOLITION DES OUVRAGES EN BETON ARME (UNIQUEMENT LES OUVRAGES NOUVEAUX) | C12: M3 | D12: 15
A13: 6 | B13: DEMOLITION OU DEPOSE DES PLANCHERS | C13: M² | D13: 95
A14: 7 | B14: DECAPAGE DE L'ENDUIT INTERIEUR ET EXTERIEUR | C14: M² | D14: 1260
A15: 8 | B15: DÉPOSE DU REVÊTEMENT DU SOL | C15: M² | D15: ='avant métré'!H68 -> 151
A16: 9 | B16: Décapage revêtements mural en carreaux de faience | C16: M² | D16: 157
A17: 10 | B17: Dépose du revêtements mural en bois | C17: M² | D17: 32
A18: 11 | B18: :Depose des renformis ( sol des wc se cuisines) evec appareils sanitaires | C18: M² | D18: 10
A19: 12 | B19: Demolition des paillasses des cuisines evec eviers | C19: M² | D19: 2
A20: 13 | B20: DEPOSE du garde corps metallique dES balconS | C20: E | D20: ='avant métré'!H106 -> 1
A21: 14 | B21: DEPOSE des faux plafonds en platre | C21: M² | D21: ='avant métré'!H108 -> 10
A22: 15 | B22: LA depose et decapage de la forme de pente et l’étanchéité ancienne | C22: M² | D22: 60
A23: 16 | B23: dépose des portes et fenêtres | C23: U | D23: ='avant métré'!H112 -> 27
A24: 17 | B24: Depose de l-installation de la plomberie | C24: E | D24: ='avant métré'!H114 -> 1
A25: 18 | B25: Depose de l-installation de l’electricite | C25: E | D25: ='avant métré'!H116 -> 1
B26: B-TRAVAUX DE REFECTION:
B27: 1/ GROS – ŒUVRES EN FONDATION
A28: 19 | B28: FOUILLES EN TRANCHES OU EN PLEINE MASSE DANS TOUT TERRAIN Y/C ROCHER | C28: M3 | D28: 228
A29: 20 | B29: MISE EN REMBLAIS OU EVACUATIONS A LA DECHARGE PUBLIQUE | C29: M3 | D29: 228
A30: 21 | B30: BETON DE PROPRETE | C30: M3 | D30: 1
A31: 22 | B31: Béton cyclopéen | C31: M3 | D31: 112
A32: 23 | B32: béton pour b.a en fondation | C32: M3 | D32: 15
A33: 24 | B33: aciers pour b.a en fondation | C33: Kg | D33: 1680
A34: 25 | B34: BLOCAGE EN PIERRES SECHES DE 0,20m | C34: M² | D34: 51
A35: 26 | B35: dallage de 15cm en béton arme | C35: M² | D35: 51
B36: 2-ASSAINISSEMENT
A37: 27 | B37: CANALISATION EN BUSES DE PVC SERIE I TYPE ASSAINISSEMENTS Ф 200 | C37: ML | D37: 7
A38: 28 | B38: CANALISATION EN BUSES DE PVC SERIE I TYPE ASSAINISSEMENTS Ф 300 | C38: ML | D38: 5
A39: 29 | B39: REGARDS NON VISITABLES DE 0,40 x 0,40 M | C39: U | D39: 2
A40: 30 | B40: REGARDS VISITABLES DE 0,60 x 0,60 M | C40: U | D40: 1
B41: 3/ GROS – ŒUVRES EN ELEVATION
A42: 31 | B42: Béton pour béton armé en élévation | C42: M3 | D42: 15
A43: 32 | B43: ACIERS TOR POUR b.a en élévation | C43: Kg | D43: 1800
A44: 33 | B44: Planchers en hourdis préfabriqué de 16+4cm | C44: M² | D44: 93
B45: Cloisons en briques creuses
A46: 34 | B46: Cloisons en briques creuses de 0.10m | C46: M² | D46: 28
A47: 35 | B47: Cloisons en briques creuses de 0.15m | C47: M² | D47: 5
A48: 36 | B48: Double cloisons en briques creuses de 0.25m | C48: M² | D48: 38
A49: 37 | B49: Appuis de fenêtres en béton | C49: ML | D49: 3
A50: 38 | B50: ENDUITS INTERIEURS ET EXTERIEURS | C50: M² | D50: =D14 -> 1260
A51: 39 | B51: Traitement des fissures d’enduit | C51: ML | D51: ='avant métré'!H167 -> 66
A52: 40 | B52: Traitement des murs lézardés ou fissurés | C52: ML | D52: =D51 -> 66
B53: 4/- ETANCHEITE – TERRASSE :
A54: 41 | B54: Forme de pente : | C54: M2 | D54: 60
A55: 42 | B55: Chape de lissage ou de surfacage | C55: M2 | D55: 60
A56: 43 | B56: Façon de gorges sous solin et preparation des acroteres | C56: ML | D56: 50
A57: 44 | B57: Etanchéité bicouche pour surfaces plates: | C57: M2 | D57: 60
A58: 45 | B58: Etancheite bicouche des relevés | C58: ML | D58: 50
A59: 46 | B59: Etancheite legere pour salles d’eau | C59: M2 | D59: 10
A60: 47 | B60: Protection d'etancheite par dallettes en béton de grains de riz: | C60: M2 | D60: 60
A61: 48 | B61: Protection d'etancheite des releves | C61: ML | D61: 50
A62: 49 | B62: Fourniture et pose des gargouilles en plomb y compris crapaudines | C62: U | D62: 1
A63: 50 | B63: Descente en PVC ø120 renforcé feroplast | C63: ML | D63: ='avant métré'!H195 -> 17
B64: 5/ - REVETEMENTS :
A65: 51 | B65: REVETEMENT MURAL EN CARREAUX DE FAIENCE BLANCHE: | C65: M2 | D65: 160
A66: 52 | B66: REVETEMENT DU SOL EN CARREAUX DE GRES CERAME: | C66: M2 | D66: 190
A67: 53 | B67: plinthes en REVETEMENT DU SOL EN CARREAUX DE GRES CERAME: | C67: ML | D67: 240
A68: 54 | B68: REVETEMENT DES MARCHES EN CARREAUX DE GRÈS CÉRAME | C68: ML | D68: 75
A69: 55 | B69: REVETEMENT des plinthes des MARCHES EN CARREAUX DE GRÈS CÉRAME | C69: ML | D69: 95
A70: 56 | B70: REFECTION DES FAUX PLAFOND EN PLATRE | C70: M2 | D70: 10
B71: 6 ) MENUISERIE:
B72: A-MENUISERIE BOIS :
B73: les travaux de réfection :
A74: 57 | B74: Porte en bois de l’entrée principale de 122x309 | C74: U | D74: 1
A75: 58 | B75: Porte en bois de 114x276 | C75: U | D75: 1
A76: 59 | B76: Porte vitrée en bois de 96x275 | C76: U | D76: 1
A77: 60 | B77: Porte vitrée en bois de 110x275 | C77: U | D77: 1
A78: 61 | B78: Porte vitrée en bois de 88x205 | C78: U | D78: 1
A79: 62 | B79: Porte en bois de 112x273 | C79: U | D79: 1
A80: 63 | B80: fenêtre en bois de 80x99 | C80: U | D80: 1
A81: 64 | B81: fenêtre en bois de 90x181 | C81: U | D81: 1
A82: 65 | B82: fenêtre en aluminium de 72x117 + grille métallique | C82: U | D82: 1
A83: 66 | B83: porte métallique de 114x216 | C83: U | D83: 1
A84: 67 | B84: porte métallique de 75x175 | C84: U | D84: 1
B85: fourniture partielle avec des travaux de réfection:
A86: 68 | B86: Fenêtre en bois de 94x181+ grille métallique. | C86: U | D86: 1
A87: 69 | B87: Fenêtre en bois de 101x131+ grille métallique | C87: U | D87: 1
A88: 70 | B88: Porte-fenêtre en bois de 115x291 | C88: U | D88: 1
A89: 71 | B89: Porte-fenêtre en bois de 115x291 | C89: U | D89: 1
A90: 72 | B90: Porte-fenêtre en bois de 115x291 | C90: U | D90: 1
A91: 73 | B91: Porte en bois de 110x268 | C91: U | D91: 1
A92: 74 | B92: Porte-fenêtre en bois de 110x268 | C92: U | D92: 1
A93: 75 | B93: Porte en bois de 110x268 | C93: U | D93: 1
A94: 76 | B94: Porte-fenêtre en bois de 114x274 | C94: U | D94: 1
A95: 77 | B95: Porte-fenêtre en bois de 114x274 | C95: U | D95: 1
A96: 78 | B96: porte isoplane vitrée coulissante 94x273 | C96: U | D96: 1
A97: 79 | B97: Porte en bois de 84x216 | C97: U | D97: 1
... A100: 82 | B100: fenêtre en bois de 115x179 | C100: U | D100: 1
B101: fourniture et pose:
A102: 83 | B102: Porte isoplane vitrée 90x220 | C102: U | D102: 1
A103: 84 | B103: Porte isoplane vitrée coulissante 90x220 | C103: U | D103: 1
A104: 85 | B104: Porte isoplane vitrée en bois rouge: de 70x220 | C104: U | D104: 2
B105: B- MENUISERIE METALLIQUES ET FERRONNERIE:
...

Sheet avant métré
A2: BORDEREAU DES PRIX - DETAIL ESTIMATIF
A5: N° | B5: DESIGNATION DES OUVRAGES | C5: U | G5: QTE | H5: QTE
B7: 0) DEMOLITIONS, DECAPAGES ET DEPOSES:
A8: 1 | B8: DEMOLITION DU DALLAGE | C8: M2 | H8: 51
A9: 2 | B9: DEMOLITION DES OUVRAGES ENTERRES | C9: F | H9: 1
A10: 3 | B10: DEMOLITIONS DES OUVRAGES EN MAÇONNERIES | C10: M2 | H10: 35
A11: 4 | B11: DEMOLITION DES ESCALIERS | C11: F | H11: 1
A12: 5 | B12: DEMOLITION DES OUVRAGES EN BETON ARME (UNIQUEMENT LES OUVRAGES NOUVEAUX) | C12: M3 | H12: 15
A13: 6 | B13: DEMOLITION OU DEPOSE DES PLANCHERS | C13: M2 | H13: 95
A14: 7 | B14: DECAPAGE DE L'ENDUIT INTERIEUR ET EXTERIEUR | C14: M2
B15: a- décapage enduit intérieur
D16: 40 | E16: 4 | F16: =D16*E16 -> 160
D17: 12.5 | E17: 4 | F17: =D17*E17 -> 50
D19: 11 | E19: 3.8 | F19: =D19*E19 -> 41.8
D20: 1.35 | E20: 1 | F20: =D20*E20 -> 1.35
D21: 6.9 | E21: 1.7 | F21: =D21*E21 -> 11.73
D22: 3.9 | E22: 2 | F22: =D22*E22 -> 7.8
D23: 9.5 | E23: 2.4 | F23: =D23*E23 -> 22.8
D24: 14 | E24: 3.8 | F24: =D24*E24 -> 53.2
D25: 10 | E25: 2.4 | F25: =D25*E25 -> 24
D26: 16.7 | E26: 2.4 | F26: =D26*E26 -> 40.08
D28: 11 | E28: 3.3 | F28: =D28*E28 -> 36.3
D29: 6 | E29: 1.6 | F29: =D29*E29 -> 9.6
... D41: 17.2 | E41: 3.25 | F41: =D41*E41 -> 55.9
G42: =SUM(F16:F41) -> 833.69
B43: b- décapage enduit extérieur
F44: 35.8
F45: 91
D46: -9 | E46: 3.7 | F46: =E46*D46 -> -33.3
D47: 6.7 | E47: 11.7 | F47: =E47*D47 -> 78.39
D48: 11 | E48: 11.7 | F48: =E48*D48 -> 128.7
D49: 10.3 | E49: 11.7 | F49: =E49*D49 -> 120.51
G50: =SUM(F44:F49) -> 421.1
H51: =G50+G42 -> 1254.79
A52: 8 | B52: DÉPOSE DU REVÊTEMENT DU SOL | C52: M2
F53: 36
F54: 5.3
F55: 4.5
F56: 10.5
F57: 17.5
F59: 5.4
F60: 4.4
F61: 10.5
F62: 17.7
F64: 7.3
F65: 3.4
F66: 10
F67: 18.5
H68: =SUM(F53:F67) -> 151
A70: 9 | B70: Décapage revêtements mural en carreaux de faience | C70: M2
D71: 6.9 | E71: =3.6-1.7 -> 1.9 | F71: =E71*D71 -> 13.11
D72: 3.9 | E72: =3.6-2 -> 1.6 | F72: =E72*D72 -> 6.24
D73: 9.5 | E73: =3.8-2.4 -> 1.4 | F73: =E73*D73 -> 13.3
D74: 14 | E74: 3.8 | F74: =E74*D74 -> 53.2
D75: 10 | E75: =3.8-2.4 -> 1.4 | F75: =E75*D75 -> 14
D76: 16.7 | E76: =3.8-2.4 -> 1.4 | F76: =E76*D76 -> 23.38
D78: 6 | E78: =3.3-1.6 -> 1.7 | F78: =E78*D78 -> 10.2
D79: 5.3 | E79: =3.3-1.6 -> 1.7 | F79: =E79*D79 -> 9.01
D81: 6.4 | E81: =3.25-1.25 -> 2 | F81: =E81*D81 -> 12.8
H82: =SUM(F71:F81) -> 155.24
A84: 10 | B84: Dépose du revêtements mural en bois | C84: M2
D85: 3.42 | E85: 4.1 | F85: =E85*D85 -> 14.022
D86: 3.42 | E86: 3.8 | F86: =E86*D86 -> 12.996
D87: 0.85 | E87: 3.8 | F87: =E87*D87 -> 3.23
H88: =SUM(F85:F87) -> 30.248
A90: 11 | B90: :Depose des renformis ( sol des wc se cuisines) evec appareils sanitaires | C90: M2
F91: 2.45
F92: 0.94
F94: 2.05
F95: 1.7
F97: 2.08
H98: =SUM(F91:F97) -> 9.22
A100: 12 | B100: Demolition des paillasses des cuisines evec eviers | C100: M2
D101: 1.21 | E101: 0.6 | F101: =D101*E101 -> 0.726
D102: 0.5 | E102: 0.6 | F102: =D102*E102 -> 0.3
D103: 1.27 | E103: 0.6 | F103: =D103*E103 -> 0.762
H104: =SUM(F101:F103) -> 1.788
A106: 13 | B106: DEPOSE du garde corps metallique dES balconS | C106: E | H106: 1
A108: 14 | B108: DEPOSE des faux plafonds en platre | C108: M2 | H108: 10
A110: 15 | B110: LA depose et decapage de la forme de pente et l’étanchéité ancienne | C110: M2 | H110: 45
A112: 16 | B112: dépose des portes et fenêtres | C112: U | H112: 27
A114: 17 | B114: Depose de l-installation de la plomberie | C114: E | H114: 1
A116: 18 | B116: Depose de l-installation de l’electricite | C116: E | H116: 1
B118: 1/ GROS – ŒUVRES+ ASSAISSEMENT
A119: 19 | B119: FOUILLES EN TRANCHES OU EN PLEINE MASSE DANS TOUT TERRAIN Y/C ROCHER | C119: M3 | H119: 228
A120: 20 | B120: MISE EN REMBLAIS OU EVACUATIONS A LA DECHARGE PUBLIQUE | C120: M3 | H120: 228
A121: 21 | B121: BETON DE PROPRETE | C121: M3 | H121: 1
A122: 22 | B122: Béton cyclopéen | C122: M3 | H122: 112
A123: 23 | B123: béton pour b.a en fondation | C123: M3 | H123: 15
A124: 24 | B124: aciers pour b.a en fondation | C124: Kg | H124: 1680
A125: 25 | B125: BLOCAGE EN PIERRES SECHES DE 0,20m | C125: M2 | H125: 51
A126: 26 | B126: dallage de 15cm en béton arme | C126: M2 | H126: 51
B128: 2-ASSAINISSEMENT
A129: 27 | B129: CANALISATION EN BUSES DE PVC SERIE I TYPE ASSAINISSEMENTS Ф 200 | C129: ML | H129: 7
A131: 28 | B131: CANALISATION EN BUSES DE PVC SERIE I TYPE ASSAINISSEMENTS Ф 300 | C131: ML | H131: 5
A133: 29 | B133: REGARDS NON VISITABLES DE 0,40 x 0,40 M | C133: U | H133: 2
A135: 30 | B135: REGARDS VISITABLES DE 0,60 x 0,60 M | C135: U | H135: 1
A137: 31 | B137: Béton pour béton armé en élévation | C137: M3 | H137: 15
A139: 32 | B139: ACIERS TOR POUR b.a en élévation | C139: Kg | H139: 1800
A143: 33 | B143: Appuis de fenêtres en béton | C143: ML | F143: 1.3
...

Sheet Feuil3
